BEGIN:VCALENDAR
VERSION:2.0
PRODID:-//Titus Regional Medical Center - ECPv6.15.16//NONSGML v1.0//EN
CALSCALE:GREGORIAN
METHOD:PUBLISH
X-WR-CALNAME:Titus Regional Medical Center
X-ORIGINAL-URL:https://www.titusregional.com
X-WR-CALDESC:Events for Titus Regional Medical Center
REFRESH-INTERVAL;VALUE=DURATION:PT1H
X-Robots-Tag:noindex
X-PUBLISHED-TTL:PT1H
BEGIN:VTIMEZONE
TZID:America/Chicago
BEGIN:DAYLIGHT
TZOFFSETFROM:-0600
TZOFFSETTO:-0500
TZNAME:CDT
DTSTART:20190310T080000
END:DAYLIGHT
BEGIN:STANDARD
TZOFFSETFROM:-0500
TZOFFSETTO:-0600
TZNAME:CST
DTSTART:20191103T070000
END:STANDARD
BEGIN:DAYLIGHT
TZOFFSETFROM:-0600
TZOFFSETTO:-0500
TZNAME:CDT
DTSTART:20200308T080000
END:DAYLIGHT
BEGIN:STANDARD
TZOFFSETFROM:-0500
TZOFFSETTO:-0600
TZNAME:CST
DTSTART:20201101T070000
END:STANDARD
BEGIN:DAYLIGHT
TZOFFSETFROM:-0600
TZOFFSETTO:-0500
TZNAME:CDT
DTSTART:20210314T080000
END:DAYLIGHT
BEGIN:STANDARD
TZOFFSETFROM:-0500
TZOFFSETTO:-0600
TZNAME:CST
DTSTART:20211107T070000
END:STANDARD
END:VTIMEZONE
BEGIN:VEVENT
DTSTART;TZID=America/Chicago:20200508T120000
DTEND;TZID=America/Chicago:20200508T160000
DTSTAMP:20260422T022446
CREATED:20200306T214804Z
LAST-MODIFIED:20200306T214804Z
UID:10003569-1588939200-1588953600@www.titusregional.com
SUMMARY:Daingerfield - Community Sports Physical Clinic
DESCRIPTION:For Additional Information: \nSeth Alexander 903.577.6366
URL:https://www.titusregional.com/event/daingerfield-community-sports-physical-clinic/
LOCATION:Daingerfield High School\, 202 Tiger Drive\, Daingerfield\, TX\, 75455\, United States
CATEGORIES:Community Events
ATTACH;FMTTYPE=image/jpeg:https://www.titusregional.com/wp-content/uploads/MP-Intranet-Banner.jpg
GEO:33.0154897;-94.7195587
X-APPLE-STRUCTURED-LOCATION;VALUE=URI;X-ADDRESS=Daingerfield High School 202 Tiger Drive Daingerfield TX 75455 United States;X-APPLE-RADIUS=500;X-TITLE=202 Tiger Drive:geo:-94.7195587,33.0154897
END:VEVENT
END:VCALENDAR