BEGIN:VCALENDAR
VERSION:2.0
PRODID:-//Titus Regional Medical Center - ECPv6.15.16//NONSGML v1.0//EN
CALSCALE:GREGORIAN
METHOD:PUBLISH
X-WR-CALNAME:Titus Regional Medical Center
X-ORIGINAL-URL:https://www.titusregional.com
X-WR-CALDESC:Events for Titus Regional Medical Center
REFRESH-INTERVAL;VALUE=DURATION:PT1H
X-Robots-Tag:noindex
X-PUBLISHED-TTL:PT1H
BEGIN:VTIMEZONE
TZID:America/Chicago
BEGIN:DAYLIGHT
TZOFFSETFROM:-0600
TZOFFSETTO:-0500
TZNAME:CDT
DTSTART:20190310T080000
END:DAYLIGHT
BEGIN:STANDARD
TZOFFSETFROM:-0500
TZOFFSETTO:-0600
TZNAME:CST
DTSTART:20191103T070000
END:STANDARD
BEGIN:DAYLIGHT
TZOFFSETFROM:-0600
TZOFFSETTO:-0500
TZNAME:CDT
DTSTART:20200308T080000
END:DAYLIGHT
BEGIN:STANDARD
TZOFFSETFROM:-0500
TZOFFSETTO:-0600
TZNAME:CST
DTSTART:20201101T070000
END:STANDARD
BEGIN:DAYLIGHT
TZOFFSETFROM:-0600
TZOFFSETTO:-0500
TZNAME:CDT
DTSTART:20210314T080000
END:DAYLIGHT
BEGIN:STANDARD
TZOFFSETFROM:-0500
TZOFFSETTO:-0600
TZNAME:CST
DTSTART:20211107T070000
END:STANDARD
END:VTIMEZONE
BEGIN:VEVENT
DTSTART;TZID=America/Chicago:20200215T080000
DTEND;TZID=America/Chicago:20200215T110000
DTSTAMP:20260422T184439
CREATED:20200121T173309Z
LAST-MODIFIED:20221011T152517Z
UID:10003510-1581753600-1581764400@www.titusregional.com
SUMMARY:React Quicker Save Your Ticker Heart Health Fair
DESCRIPTION:FREE CARDIOVASCULAR RISK ASSESSMENT \nCOOKING DEMONSTRATIONS \nFREE HEALTH SCREENINGS \nINFORMATION BOOTHS \nDOOR PRIZES \n  \nREDUCED COST LAB RESULTS \n\nLipid Panel $10 (includes cholesterol) *for most accurate lipid results\, please do not eat or drink for 8-10 hours prior to test\nHemoglobin A1C $10 (diabetes screening)\nPSA $5 (prostate cancer screening for men)\n\n  \nFOR MORE INFORMATION: SETH ALEXANDER 903.577.6366
URL:https://www.titusregional.com/event/react-quicker-save-your-ticker-heart-health-fair-2/
LOCATION:Titus Regional Medical Center – Lobby\, 2001 North Jefferson Ave\, Mount Pleasant\, TX\, 75455\, United States
CATEGORIES:Community Events
ATTACH;FMTTYPE=image/jpeg:https://www.titusregional.com/wp-content/uploads/CARD.jpg
GEO:33.1756887;-94.9715384
X-APPLE-STRUCTURED-LOCATION;VALUE=URI;X-ADDRESS=Titus Regional Medical Center – Lobby 2001 North Jefferson Ave Mount Pleasant TX 75455 United States;X-APPLE-RADIUS=500;X-TITLE=2001 North Jefferson Ave:geo:-94.9715384,33.1756887
END:VEVENT
END:VCALENDAR