BEGIN:VCALENDAR
VERSION:2.0
PRODID:-//Titus Regional Medical Center - ECPv6.15.16//NONSGML v1.0//EN
CALSCALE:GREGORIAN
METHOD:PUBLISH
X-ORIGINAL-URL:https://www.titusregional.com
X-WR-CALDESC:Events for Titus Regional Medical Center
REFRESH-INTERVAL;VALUE=DURATION:PT1H
X-Robots-Tag:noindex
X-PUBLISHED-TTL:PT1H
BEGIN:VTIMEZONE
TZID:America/Chicago
BEGIN:DAYLIGHT
TZOFFSETFROM:-0600
TZOFFSETTO:-0500
TZNAME:CDT
DTSTART:20210314T080000
END:DAYLIGHT
BEGIN:STANDARD
TZOFFSETFROM:-0500
TZOFFSETTO:-0600
TZNAME:CST
DTSTART:20211107T070000
END:STANDARD
BEGIN:DAYLIGHT
TZOFFSETFROM:-0600
TZOFFSETTO:-0500
TZNAME:CDT
DTSTART:20220313T080000
END:DAYLIGHT
BEGIN:STANDARD
TZOFFSETFROM:-0500
TZOFFSETTO:-0600
TZNAME:CST
DTSTART:20221106T070000
END:STANDARD
BEGIN:DAYLIGHT
TZOFFSETFROM:-0600
TZOFFSETTO:-0500
TZNAME:CDT
DTSTART:20230312T080000
END:DAYLIGHT
BEGIN:STANDARD
TZOFFSETFROM:-0500
TZOFFSETTO:-0600
TZNAME:CST
DTSTART:20231105T070000
END:STANDARD
END:VTIMEZONE
BEGIN:VEVENT
DTSTART;TZID=America/Chicago:20220511T120000
DTEND;TZID=America/Chicago:20220511T130000
DTSTAMP:20260419T233726
CREATED:20220503T203750Z
LAST-MODIFIED:20220503T204337Z
UID:10003580-1652270400-1652274000@www.titusregional.com
SUMMARY:Lunch & Learn
DESCRIPTION:For our 55+ community members\, join us as we gather IN-PERSON for Lunch & Learn on Wednesday\, May 11th\, from 12-1 PM at the Mt. Pleasant Civic Center. This month we will be hearing from Dr. Khan at the Neurology Center at Titus. \nBring $5 to enjoy a tasty lunch of chicken and dumplings\, green beans\, fruit cup\, and cookies. \nFor questions or to partner for fun giveaways\, contact TRMC’s Community Event Coordinator: Kiara Marquez.
URL:https://www.titusregional.com/event/lunch-learn-may/
LOCATION:Mt Pleasant Civic Center\, 1800 N. Jefferson Avenue\, Mount Pleasant\, TX\, 75455\, United States
CATEGORIES:Community Events,Lunch & Learn
ATTACH;FMTTYPE=image/png:https://www.titusregional.com/wp-content/uploads/screen-1920x1080-1.png
ORGANIZER;CN="Kiara Marquez":MAILTO:kiara.marquez@titusregional.com
GEO:33.1740113;-94.9695477
X-APPLE-STRUCTURED-LOCATION;VALUE=URI;X-ADDRESS=Mt Pleasant Civic Center 1800 N. Jefferson Avenue Mount Pleasant TX 75455 United States;X-APPLE-RADIUS=500;X-TITLE=1800 N. Jefferson Avenue:geo:-94.9695477,33.1740113
END:VEVENT
BEGIN:VEVENT
DTSTART;TZID=America/Chicago:20220517T160000
DTEND;TZID=America/Chicago:20220517T170000
DTSTAMP:20260419T233726
CREATED:20180628T034255Z
LAST-MODIFIED:20250908T204623Z
UID:10003364-1652803200-1652806800@www.titusregional.com
SUMMARY:Diabetes Support Group
DESCRIPTION:Join us for our Diabetes Support Group! \nThe Adult Diabetes Support Group meets the third Tuesday of each month (excluding June\, July and August) at 4 pm at Titus Fit Cardiac Rehab (2003 N Jefferson\, Suite 1). The group is sponsored by the Diabetes Education department and seeks to help individuals with diabetes better understand and control their diabetes and to live lives free of diabetes-related health problems. There is no charge to attend this informative program and is open to anyone living with diabetes\, family members and friends. \nFor more information about the Diabetes Self-Management Program at TRMC\, please contact us at 903.577.6099
URL:https://www.titusregional.com/event/diabetes-support-group/2022-05-17/
LOCATION:Titus Fit Cardiac Rehab\, 2003 N. Jefferson\, Suite 1\, Mount Pleasant\, TX\, 75455\, United States
CATEGORIES:Support Groups
ATTACH;FMTTYPE=image/jpeg:https://www.titusregional.com/wp-content/uploads/DiabetesSupport-1920x1080-1.jpg
ORGANIZER;CN="Christina Graham%2C RD%2C LD%2C CDE":MAILTO:Christina.Graham@TitusRegional.com
GEO:33.1761705;-94.9709903
X-APPLE-STRUCTURED-LOCATION;VALUE=URI;X-ADDRESS=Titus Fit Cardiac Rehab 2003 N. Jefferson Suite 1 Mount Pleasant TX 75455 United States;X-APPLE-RADIUS=500;X-TITLE=2003 N. Jefferson\, Suite 1:geo:-94.9709903,33.1761705
END:VEVENT
BEGIN:VEVENT
DTSTART;TZID=America/Chicago:20220521T110000
DTEND;TZID=America/Chicago:20220521T140000
DTSTAMP:20260419T233726
CREATED:20220427T201955Z
LAST-MODIFIED:20220915T150810Z
UID:10003579-1653130800-1653141600@www.titusregional.com
SUMMARY:Kids Safe Saturday
DESCRIPTION:TRMC is excited to be hosting Kids Safe Saturday\, a free children’s safety event. Join our team of medical professionals on Saturday\, May 21\, from 11 AM-2 PM at the Mt. Pleasant Civic Center for safety demonstrations\, activities for all ages\, door prizes\, FREE food and drinks\, and more!
URL:https://www.titusregional.com/event/kids-safe-saturday/
LOCATION:Mt Pleasant Civic Center\, 1800 N. Jefferson Avenue\, Mount Pleasant\, TX\, 75455\, United States
CATEGORIES:Community Events
ATTACH;FMTTYPE=image/png:https://www.titusregional.com/wp-content/uploads/KSS_WebsiteEventCover.png
ORGANIZER;CN="Kiara Marquez":MAILTO:kiara.marquez@titusregional.com
GEO:33.1740113;-94.9695477
X-APPLE-STRUCTURED-LOCATION;VALUE=URI;X-ADDRESS=Mt Pleasant Civic Center 1800 N. Jefferson Avenue Mount Pleasant TX 75455 United States;X-APPLE-RADIUS=500;X-TITLE=1800 N. Jefferson Avenue:geo:-94.9695477,33.1740113
END:VEVENT
END:VCALENDAR