BEGIN:VCALENDAR
VERSION:2.0
PRODID:-//Titus Regional Medical Center - ECPv6.15.16//NONSGML v1.0//EN
CALSCALE:GREGORIAN
METHOD:PUBLISH
X-WR-CALNAME:Titus Regional Medical Center
X-ORIGINAL-URL:https://www.titusregional.com
X-WR-CALDESC:Events for Titus Regional Medical Center
REFRESH-INTERVAL;VALUE=DURATION:PT1H
X-Robots-Tag:noindex
X-PUBLISHED-TTL:PT1H
BEGIN:VTIMEZONE
TZID:America/Chicago
BEGIN:DAYLIGHT
TZOFFSETFROM:-0600
TZOFFSETTO:-0500
TZNAME:CDT
DTSTART:20190310T080000
END:DAYLIGHT
BEGIN:STANDARD
TZOFFSETFROM:-0500
TZOFFSETTO:-0600
TZNAME:CST
DTSTART:20191103T070000
END:STANDARD
BEGIN:DAYLIGHT
TZOFFSETFROM:-0600
TZOFFSETTO:-0500
TZNAME:CDT
DTSTART:20200308T080000
END:DAYLIGHT
BEGIN:STANDARD
TZOFFSETFROM:-0500
TZOFFSETTO:-0600
TZNAME:CST
DTSTART:20201101T070000
END:STANDARD
BEGIN:DAYLIGHT
TZOFFSETFROM:-0600
TZOFFSETTO:-0500
TZNAME:CDT
DTSTART:20210314T080000
END:DAYLIGHT
BEGIN:STANDARD
TZOFFSETFROM:-0500
TZOFFSETTO:-0600
TZNAME:CST
DTSTART:20211107T070000
END:STANDARD
END:VTIMEZONE
BEGIN:VEVENT
DTSTART;TZID=America/Chicago:20201010T080000
DTEND;TZID=America/Chicago:20201010T110000
DTSTAMP:20260422T135459
CREATED:20200923T144638Z
LAST-MODIFIED:20221011T152524Z
UID:10003572-1602316800-1602327600@www.titusregional.com
SUMMARY:Mount Pleasant Community Health Fair
DESCRIPTION:DRIVE-THROUGH HEALTH FAIR\n\nDue to concerns surrounding Covid-19\, the 2020 Health Fair will be a Drive-Through Event.\n\nPlease be aware of the following guidelines:\n\nEnter through the East Entrance (follow signs)\nPlease stay in your vehicle until asked to step out for service\nAll occupants of your vehicle should wear a mask\n*If you have symptoms or tested positive for COVID-19 14 days prior to the health fair\, you should not attend the health fair.\n\nFREE Services and Reminders:\nFree Lab Work\n\nLipid Panel (must fast)\nPSA Test\n\nFree Health Checks\n\nBlood Pressure\nBlood Sugar\n\nFree Flu Vaccine\n\nMust be 18 years or older\nMedicare Recipients\, bring card\nWhile supplies last\n\nComplimentary snacks will be served!\n\nFor more information\, please contact Seth Alexander\, Seth.Alexander@TitusRegional.com
URL:https://www.titusregional.com/event/mount-pleasant-community-health-fair-2/
LOCATION:Tennisson Memorial United Methodist Church\, 313 North Church Ave\, Mount Pleasant\, TX\, 75455\, United States
CATEGORIES:Community Events
ATTACH;FMTTYPE=image/jpeg:https://www.titusregional.com/wp-content/uploads/HealthFair2020_qhd.jpg
GEO:33.1588896;-94.9644805
X-APPLE-STRUCTURED-LOCATION;VALUE=URI;X-ADDRESS=Tennisson Memorial United Methodist Church 313 North Church Ave Mount Pleasant TX 75455 United States;X-APPLE-RADIUS=500;X-TITLE=313 North Church Ave:geo:-94.9644805,33.1588896
END:VEVENT
BEGIN:VEVENT
DTSTART;TZID=America/Chicago:20201020T160000
DTEND;TZID=America/Chicago:20201020T170000
DTSTAMP:20260422T135459
CREATED:20180628T034255Z
LAST-MODIFIED:20250908T204623Z
UID:10003346-1603209600-1603213200@www.titusregional.com
SUMMARY:Diabetes Support Group
DESCRIPTION:Join us for our Diabetes Support Group! \nThe Adult Diabetes Support Group meets the third Tuesday of each month (excluding June\, July and August) at 4 pm at Titus Fit Cardiac Rehab (2003 N Jefferson\, Suite 1). The group is sponsored by the Diabetes Education department and seeks to help individuals with diabetes better understand and control their diabetes and to live lives free of diabetes-related health problems. There is no charge to attend this informative program and is open to anyone living with diabetes\, family members and friends. \nFor more information about the Diabetes Self-Management Program at TRMC\, please contact us at 903.577.6099
URL:https://www.titusregional.com/event/diabetes-support-group/2020-10-20/
LOCATION:Titus Fit Cardiac Rehab\, 2003 N. Jefferson\, Suite 1\, Mount Pleasant\, TX\, 75455\, United States
CATEGORIES:Support Groups
ATTACH;FMTTYPE=image/jpeg:https://www.titusregional.com/wp-content/uploads/DiabetesSupport-1920x1080-1.jpg
ORGANIZER;CN="Christina Graham%2C RD%2C LD%2C CDE":MAILTO:Christina.Graham@TitusRegional.com
GEO:33.1761705;-94.9709903
X-APPLE-STRUCTURED-LOCATION;VALUE=URI;X-ADDRESS=Titus Fit Cardiac Rehab 2003 N. Jefferson Suite 1 Mount Pleasant TX 75455 United States;X-APPLE-RADIUS=500;X-TITLE=2003 N. Jefferson\, Suite 1:geo:-94.9709903,33.1761705
END:VEVENT
END:VCALENDAR