BEGIN:VCALENDAR
VERSION:2.0
PRODID:-//Titus Regional Medical Center - ECPv6.15.16//NONSGML v1.0//EN
CALSCALE:GREGORIAN
METHOD:PUBLISH
X-WR-CALNAME:Titus Regional Medical Center
X-ORIGINAL-URL:https://www.titusregional.com
X-WR-CALDESC:Events for Titus Regional Medical Center
REFRESH-INTERVAL;VALUE=DURATION:PT1H
X-Robots-Tag:noindex
X-PUBLISHED-TTL:PT1H
BEGIN:VTIMEZONE
TZID:America/Chicago
BEGIN:DAYLIGHT
TZOFFSETFROM:-0600
TZOFFSETTO:-0500
TZNAME:CDT
DTSTART:20250309T080000
END:DAYLIGHT
BEGIN:STANDARD
TZOFFSETFROM:-0500
TZOFFSETTO:-0600
TZNAME:CST
DTSTART:20251102T070000
END:STANDARD
BEGIN:DAYLIGHT
TZOFFSETFROM:-0600
TZOFFSETTO:-0500
TZNAME:CDT
DTSTART:20260308T080000
END:DAYLIGHT
BEGIN:STANDARD
TZOFFSETFROM:-0500
TZOFFSETTO:-0600
TZNAME:CST
DTSTART:20261101T070000
END:STANDARD
BEGIN:DAYLIGHT
TZOFFSETFROM:-0600
TZOFFSETTO:-0500
TZNAME:CDT
DTSTART:20270314T080000
END:DAYLIGHT
BEGIN:STANDARD
TZOFFSETFROM:-0500
TZOFFSETTO:-0600
TZNAME:CST
DTSTART:20271107T070000
END:STANDARD
END:VTIMEZONE
BEGIN:VEVENT
DTSTART;TZID=America/Chicago:20260114T120000
DTEND;TZID=America/Chicago:20260114T130000
DTSTAMP:20260424T185631
CREATED:20251215T144409Z
LAST-MODIFIED:20260106T224304Z
UID:10008345-1768392000-1768395600@www.titusregional.com
SUMMARY:Lunch & Learn
DESCRIPTION:For our 55+ community members\, join us as we gather for Lunch & Learn on Wednesday\, January 14th\, from 12-1 PM at the Mt. Pleasant Civic Center. This month\, we’ll be hearing from Drs Hester & Pappas from the Orthopedics & Sports Medicine at Titus clinic. Bring $5 to enjoy a tasty lunch! \nFor questions or to partner for fun giveaways\, contact Kiara Marquez – kiara.marquez@titusregional.com
URL:https://www.titusregional.com/event/lunch-learn-19/
LOCATION:Mt Pleasant Civic Center\, 1800 N. Jefferson Avenue\, Mount Pleasant\, TX\, 75455\, United States
CATEGORIES:Community Events,Lunch & Learn
ORGANIZER;CN="Kiara Marquez":MAILTO:kiara.marquez@titusregional.com
GEO:33.1740113;-94.9695477
X-APPLE-STRUCTURED-LOCATION;VALUE=URI;X-ADDRESS=Mt Pleasant Civic Center 1800 N. Jefferson Avenue Mount Pleasant TX 75455 United States;X-APPLE-RADIUS=500;X-TITLE=1800 N. Jefferson Avenue:geo:-94.9695477,33.1740113
END:VEVENT
END:VCALENDAR