BEGIN:VCALENDAR
VERSION:2.0
PRODID:-//Titus Regional Medical Center - ECPv6.15.16//NONSGML v1.0//EN
CALSCALE:GREGORIAN
METHOD:PUBLISH
X-ORIGINAL-URL:https://www.titusregional.com
X-WR-CALDESC:Events for Titus Regional Medical Center
REFRESH-INTERVAL;VALUE=DURATION:PT1H
X-Robots-Tag:noindex
X-PUBLISHED-TTL:PT1H
BEGIN:VTIMEZONE
TZID:America/Chicago
BEGIN:DAYLIGHT
TZOFFSETFROM:-0600
TZOFFSETTO:-0500
TZNAME:CDT
DTSTART:20190310T080000
END:DAYLIGHT
BEGIN:STANDARD
TZOFFSETFROM:-0500
TZOFFSETTO:-0600
TZNAME:CST
DTSTART:20191103T070000
END:STANDARD
BEGIN:DAYLIGHT
TZOFFSETFROM:-0600
TZOFFSETTO:-0500
TZNAME:CDT
DTSTART:20200308T080000
END:DAYLIGHT
BEGIN:STANDARD
TZOFFSETFROM:-0500
TZOFFSETTO:-0600
TZNAME:CST
DTSTART:20201101T070000
END:STANDARD
BEGIN:DAYLIGHT
TZOFFSETFROM:-0600
TZOFFSETTO:-0500
TZNAME:CDT
DTSTART:20210314T080000
END:DAYLIGHT
BEGIN:STANDARD
TZOFFSETFROM:-0500
TZOFFSETTO:-0600
TZNAME:CST
DTSTART:20211107T070000
END:STANDARD
END:VTIMEZONE
BEGIN:VEVENT
DTSTART;TZID=America/Chicago:20200515T120000
DTEND;TZID=America/Chicago:20200515T163000
DTSTAMP:20260422T041701
CREATED:20200306T215108Z
LAST-MODIFIED:20200306T215348Z
UID:10003570-1589544000-1589560200@www.titusregional.com
SUMMARY:Mount Pleasant - Community Sports Physical Clinic
DESCRIPTION:For Additional Information: \nSeth Alexander 903.577.6366
URL:https://www.titusregional.com/event/mount-pleasant-community-sports-physical-clinic/
LOCATION:Mount Pleasant High School\, 2110 N Edwards Ave\, Mount Pleasant\, TX\, 75455\, United States
CATEGORIES:Community Events
ATTACH;FMTTYPE=image/jpeg:https://www.titusregional.com/wp-content/uploads/MP-Intranet-Banner.jpg
GEO:33.1765332;-94.9902478
X-APPLE-STRUCTURED-LOCATION;VALUE=URI;X-ADDRESS=Mount Pleasant High School 2110 N Edwards Ave Mount Pleasant TX 75455 United States;X-APPLE-RADIUS=500;X-TITLE=2110 N Edwards Ave:geo:-94.9902478,33.1765332
END:VEVENT
END:VCALENDAR