BEGIN:VCALENDAR
VERSION:2.0
PRODID:-//Titus Regional Medical Center - ECPv6.15.16//NONSGML v1.0//EN
CALSCALE:GREGORIAN
METHOD:PUBLISH
X-ORIGINAL-URL:https://www.titusregional.com
X-WR-CALDESC:Events for Titus Regional Medical Center
REFRESH-INTERVAL;VALUE=DURATION:PT1H
X-Robots-Tag:noindex
X-PUBLISHED-TTL:PT1H
BEGIN:VTIMEZONE
TZID:America/Chicago
BEGIN:DAYLIGHT
TZOFFSETFROM:-0600
TZOFFSETTO:-0500
TZNAME:CDT
DTSTART:20220313T080000
END:DAYLIGHT
BEGIN:STANDARD
TZOFFSETFROM:-0500
TZOFFSETTO:-0600
TZNAME:CST
DTSTART:20221106T070000
END:STANDARD
BEGIN:DAYLIGHT
TZOFFSETFROM:-0600
TZOFFSETTO:-0500
TZNAME:CDT
DTSTART:20230312T080000
END:DAYLIGHT
BEGIN:STANDARD
TZOFFSETFROM:-0500
TZOFFSETTO:-0600
TZNAME:CST
DTSTART:20231105T070000
END:STANDARD
BEGIN:DAYLIGHT
TZOFFSETFROM:-0600
TZOFFSETTO:-0500
TZNAME:CDT
DTSTART:20240310T080000
END:DAYLIGHT
BEGIN:STANDARD
TZOFFSETFROM:-0500
TZOFFSETTO:-0600
TZNAME:CST
DTSTART:20241103T070000
END:STANDARD
END:VTIMEZONE
BEGIN:VEVENT
DTSTART;TZID=America/Chicago:20231011T120000
DTEND;TZID=America/Chicago:20231011T130000
DTSTAMP:20260423T034200
CREATED:20231004T220201Z
LAST-MODIFIED:20231004T220201Z
UID:10006626-1697025600-1697029200@www.titusregional.com
SUMMARY:Lunch & Learn
DESCRIPTION:For our 55+ community members\, join us as we gather for Lunch & Learn on Wednesday\, October 11\, from 12-1 PM at the Mt. Pleasant Civic Center. This month we will be hearing from the Cancer Care at Titus Team as we discuss the big “C”… \nBring $5 to enjoy a tasty lunch of chicken spaghetti\, black-eyed peas\, cornbread\, salad\, and peach cobbler. \nFor questions or to partner for fun giveaways\, contact Kiara Marquez – kiara.marquez@titusregional.com
URL:https://www.titusregional.com/event/lunch-learn-oct23/
LOCATION:Mt Pleasant Civic Center\, 1800 N. Jefferson Avenue\, Mount Pleasant\, TX\, 75455\, United States
CATEGORIES:Community Events,Lunch & Learn
ATTACH;FMTTYPE=image/png:https://www.titusregional.com/wp-content/uploads/social-1080x1080-3.png
ORGANIZER;CN="Kiara Marquez":MAILTO:kiara.marquez@titusregional.com
GEO:33.1740113;-94.9695477
X-APPLE-STRUCTURED-LOCATION;VALUE=URI;X-ADDRESS=Mt Pleasant Civic Center 1800 N. Jefferson Avenue Mount Pleasant TX 75455 United States;X-APPLE-RADIUS=500;X-TITLE=1800 N. Jefferson Avenue:geo:-94.9695477,33.1740113
END:VEVENT
BEGIN:VEVENT
DTSTART;TZID=America/Chicago:20231014T080000
DTEND;TZID=America/Chicago:20231014T110000
DTSTAMP:20260423T034200
CREATED:20231006T164140Z
LAST-MODIFIED:20231006T213409Z
UID:10006628-1697270400-1697281200@www.titusregional.com
SUMMARY:Mt. Pleasant Community Health Fair with Tennison UMC
DESCRIPTION:Join us for our annual community health fair at the Tennison Activity Center\, located at the corner of 3rd and Church Street in Downtown Mt. Pleasant.  This year the Pediatric Clinic\, PA will also be offering Free Flu Vaccine to Children along with the flu shots being offered to adults through the Tennison Church.  Don’t miss a great day of health information\, free screenings\, and vaccines. \n 
URL:https://www.titusregional.com/event/mt-pleasant-community-health-fair-with-tennison-umc/
LOCATION:TX
CATEGORIES:Community Events
END:VEVENT
BEGIN:VEVENT
DTSTART;TZID=America/Chicago:20231017T160000
DTEND;TZID=America/Chicago:20231017T170000
DTSTAMP:20260423T034200
CREATED:20180628T034255Z
LAST-MODIFIED:20250908T204623Z
UID:10003378-1697558400-1697562000@www.titusregional.com
SUMMARY:Diabetes Support Group
DESCRIPTION:Join us for our Diabetes Support Group! \nThe Adult Diabetes Support Group meets the third Tuesday of each month (excluding June\, July and August) at 4 pm at Titus Fit Cardiac Rehab (2003 N Jefferson\, Suite 1). The group is sponsored by the Diabetes Education department and seeks to help individuals with diabetes better understand and control their diabetes and to live lives free of diabetes-related health problems. There is no charge to attend this informative program and is open to anyone living with diabetes\, family members and friends. \nFor more information about the Diabetes Self-Management Program at TRMC\, please contact us at 903.577.6099
URL:https://www.titusregional.com/event/diabetes-support-group/2023-10-17/
LOCATION:Titus Fit Cardiac Rehab\, 2003 N. Jefferson\, Suite 1\, Mount Pleasant\, TX\, 75455\, United States
CATEGORIES:Support Groups
ATTACH;FMTTYPE=image/jpeg:https://www.titusregional.com/wp-content/uploads/DiabetesSupport-1920x1080-1.jpg
ORGANIZER;CN="Christina Graham%2C RD%2C LD%2C CDE":MAILTO:Christina.Graham@TitusRegional.com
GEO:33.1761705;-94.9709903
X-APPLE-STRUCTURED-LOCATION;VALUE=URI;X-ADDRESS=Titus Fit Cardiac Rehab 2003 N. Jefferson Suite 1 Mount Pleasant TX 75455 United States;X-APPLE-RADIUS=500;X-TITLE=2003 N. Jefferson\, Suite 1:geo:-94.9709903,33.1761705
END:VEVENT
BEGIN:VEVENT
DTSTART;TZID=America/Chicago:20231026T180000
DTEND;TZID=America/Chicago:20231026T210000
DTSTAMP:20260423T034200
CREATED:20230926T205501Z
LAST-MODIFIED:20231006T193516Z
UID:10006625-1698343200-1698354000@www.titusregional.com
SUMMARY:Bingo For Bags 2023
DESCRIPTION:Bingo for Bags is everyone’s favorite event that promotes breast education\, raises funds\, and is a night full of FUN for women who get to play Bingo for designer bags! All net proceeds from Bingo for Bags will sponsor comfort items for cancer patients and their loved ones through the CancerCARE at Titus program. \nAll ticket sales will be online only this year. Every ticket includes 10 rounds of BINGO\, 2 drink tickets\, snacks\, and fun! Individual tickets are $40\, or you can reserve a table for 8 of your friends for $400. NEW this year is our Luxury Bag Bonus Round where you can purchase a chance to win the most sought-after bag for $10 a card! You can also purchase an extra Bingo Card Packet for $20 for an extra chance to win during the regular 10 rounds of Bingo. Doors will open at 5 PM\, and games begin at 6 PM. \nPurchase your tickets and extras here:\nBingo for Bags 2023 Tickets\nFor sponsorship opportunities\, you can find the Sponsorship form here:\nBingo For Bags 2023 – Sponsorship Form\nPlease contact Kaitlyn Hankins (kaitlyn.hankins@titusregional.com) for any questions.
URL:https://www.titusregional.com/event/bingo-for-bags-2023/
LOCATION:Mt Pleasant Civic Center\, 1800 N. Jefferson Avenue\, Mount Pleasant\, TX\, 75455\, United States
CATEGORIES:Community Events,Titus Regional Medical Foundation
ATTACH;FMTTYPE=image/png:https://www.titusregional.com/wp-content/uploads/BFB23_-TRMC-Web-Header.png
ORGANIZER;CN="Kaitlyn Hankins":MAILTO:kaitlyn.hankins@titusregional.com
GEO:33.1740113;-94.9695477
X-APPLE-STRUCTURED-LOCATION;VALUE=URI;X-ADDRESS=Mt Pleasant Civic Center 1800 N. Jefferson Avenue Mount Pleasant TX 75455 United States;X-APPLE-RADIUS=500;X-TITLE=1800 N. Jefferson Avenue:geo:-94.9695477,33.1740113
END:VEVENT
BEGIN:VEVENT
DTSTART;TZID=America/Chicago:20231029T130000
DTEND;TZID=America/Chicago:20231029T170000
DTSTAMP:20260423T034200
CREATED:20231005T210033Z
LAST-MODIFIED:20231006T164741Z
UID:10006627-1698584400-1698598800@www.titusregional.com
SUMMARY:Field Trauma and Rescue Course with Dr. James Bové
DESCRIPTION:Click on the graphic below to learn more and purchase your ticket!
URL:https://www.titusregional.com/event/field-trauma-and-rescue-course-with-dr-james-bove/
LOCATION:Titus Medical Plaza – 3rd Floor Conference\, 2015 Mulberry Street\, Mount Pleasant\, TX\, 75455\, United States
CATEGORIES:Community Events
GEO:33.1759972;-94.9736901
X-APPLE-STRUCTURED-LOCATION;VALUE=URI;X-ADDRESS=Titus Medical Plaza – 3rd Floor Conference 2015 Mulberry Street Mount Pleasant TX 75455 United States;X-APPLE-RADIUS=500;X-TITLE=2015 Mulberry Street:geo:-94.9736901,33.1759972
END:VEVENT
END:VCALENDAR