BEGIN:VCALENDAR
VERSION:2.0
PRODID:-//Titus Regional Medical Center - ECPv6.15.16//NONSGML v1.0//EN
CALSCALE:GREGORIAN
METHOD:PUBLISH
X-ORIGINAL-URL:https://www.titusregional.com
X-WR-CALDESC:Events for Titus Regional Medical Center
REFRESH-INTERVAL;VALUE=DURATION:PT1H
X-Robots-Tag:noindex
X-PUBLISHED-TTL:PT1H
BEGIN:VTIMEZONE
TZID:America/Chicago
BEGIN:DAYLIGHT
TZOFFSETFROM:-0600
TZOFFSETTO:-0500
TZNAME:CDT
DTSTART:20210314T080000
END:DAYLIGHT
BEGIN:STANDARD
TZOFFSETFROM:-0500
TZOFFSETTO:-0600
TZNAME:CST
DTSTART:20211107T070000
END:STANDARD
BEGIN:DAYLIGHT
TZOFFSETFROM:-0600
TZOFFSETTO:-0500
TZNAME:CDT
DTSTART:20220313T080000
END:DAYLIGHT
BEGIN:STANDARD
TZOFFSETFROM:-0500
TZOFFSETTO:-0600
TZNAME:CST
DTSTART:20221106T070000
END:STANDARD
BEGIN:DAYLIGHT
TZOFFSETFROM:-0600
TZOFFSETTO:-0500
TZNAME:CDT
DTSTART:20230312T080000
END:DAYLIGHT
BEGIN:STANDARD
TZOFFSETFROM:-0500
TZOFFSETTO:-0600
TZNAME:CST
DTSTART:20231105T070000
END:STANDARD
END:VTIMEZONE
BEGIN:VEVENT
DTSTART;TZID=America/Chicago:20221008T180000
DTEND;TZID=America/Chicago:20221008T210000
DTSTAMP:20260420T150606
CREATED:20220908T212427Z
LAST-MODIFIED:20221011T152328Z
UID:10003942-1665252000-1665262800@www.titusregional.com
SUMMARY:Bingo For Bags 2022
DESCRIPTION:Bingo for Bags is everyone’s favorite event that promotes breast education\, raises funds\, and is a night full of FUN for women who get to play Bingo for designer bags! All funds will go towards supporting the Center for Women’s Health at Titus. \nAll ticket sales will be online only this year. Every ticket includes 10 rounds of BINGO\, 2 drink tickets\, snacks\, and fun. Individual tickets are $40\, or you can reserve a table for 8 of your friends for $400. Doors will open at 5 PM\, and games begin at 6 PM. \nCLICK HERE TO BUY TICKETS!\nFor sponsorship opportunities\, please contact Kiara Marquez (kiara.marquez@titusregional.com) or Kaitlyn Hankins (kaitlyn.hankins@titusregional.com). \nBingo for Bags 2022 – Sponsorship Form
URL:https://www.titusregional.com/event/bingo/
LOCATION:Mt Pleasant Civic Center\, 1800 N. Jefferson Avenue\, Mount Pleasant\, TX\, 75455\, United States
CATEGORIES:Community Events
ATTACH;FMTTYPE=image/png:https://www.titusregional.com/wp-content/uploads/BFB22_WebHeader-.png
ORGANIZER;CN="Kiara Marquez":MAILTO:kiara.marquez@titusregional.com
GEO:33.1740113;-94.9695477
X-APPLE-STRUCTURED-LOCATION;VALUE=URI;X-ADDRESS=Mt Pleasant Civic Center 1800 N. Jefferson Avenue Mount Pleasant TX 75455 United States;X-APPLE-RADIUS=500;X-TITLE=1800 N. Jefferson Avenue:geo:-94.9695477,33.1740113
END:VEVENT
BEGIN:VEVENT
DTSTART;TZID=America/Chicago:20221012T120000
DTEND;TZID=America/Chicago:20221012T130000
DTSTAMP:20260420T150606
CREATED:20221011T190952Z
LAST-MODIFIED:20221011T190952Z
UID:10003943-1665576000-1665579600@www.titusregional.com
SUMMARY:Lunch & Learn
DESCRIPTION:For our 55+ community members\, join us as we gather IN-PERSON for Lunch & Learn on Wednesday\, October 12th\, from 12-1 PM at the Mt. Pleasant Civic Center. This month we will be hearing from a breast cancer survivor\, presented by the Center for Women’s Health at Titus. \nBring $5 to enjoy a tasty lunch of beef & cheese lasagna\, green beans & bacon\, tossed salad & dressing\, bread\, and peach cobbler. \nFor questions or to partner for fun giveaways\, contact TRMC’s Community Event Coordinator: Kiara Marquez.
URL:https://www.titusregional.com/event/lunch-learn-2/
LOCATION:Mt Pleasant Civic Center\, 1800 N. Jefferson Avenue\, Mount Pleasant\, TX\, 75455\, United States
CATEGORIES:Community Events,Lunch & Learn
ATTACH;FMTTYPE=image/png:https://www.titusregional.com/wp-content/uploads/LL-Website-Graphic_Oct-2022.png
ORGANIZER;CN="Kiara Marquez":MAILTO:kiara.marquez@titusregional.com
GEO:33.1740113;-94.9695477
X-APPLE-STRUCTURED-LOCATION;VALUE=URI;X-ADDRESS=Mt Pleasant Civic Center 1800 N. Jefferson Avenue Mount Pleasant TX 75455 United States;X-APPLE-RADIUS=500;X-TITLE=1800 N. Jefferson Avenue:geo:-94.9695477,33.1740113
END:VEVENT
BEGIN:VEVENT
DTSTART;TZID=America/Chicago:20221018T160000
DTEND;TZID=America/Chicago:20221018T170000
DTSTAMP:20260420T150606
CREATED:20180628T034255Z
LAST-MODIFIED:20250908T204623Z
UID:10003366-1666108800-1666112400@www.titusregional.com
SUMMARY:Diabetes Support Group
DESCRIPTION:Join us for our Diabetes Support Group! \nThe Adult Diabetes Support Group meets the third Tuesday of each month (excluding June\, July and August) at 4 pm at Titus Fit Cardiac Rehab (2003 N Jefferson\, Suite 1). The group is sponsored by the Diabetes Education department and seeks to help individuals with diabetes better understand and control their diabetes and to live lives free of diabetes-related health problems. There is no charge to attend this informative program and is open to anyone living with diabetes\, family members and friends. \nFor more information about the Diabetes Self-Management Program at TRMC\, please contact us at 903.577.6099
URL:https://www.titusregional.com/event/diabetes-support-group/2022-10-18/
LOCATION:Titus Fit Cardiac Rehab\, 2003 N. Jefferson\, Suite 1\, Mount Pleasant\, TX\, 75455\, United States
CATEGORIES:Support Groups
ATTACH;FMTTYPE=image/jpeg:https://www.titusregional.com/wp-content/uploads/DiabetesSupport-1920x1080-1.jpg
ORGANIZER;CN="Christina Graham%2C RD%2C LD%2C CDE":MAILTO:Christina.Graham@TitusRegional.com
GEO:33.1761705;-94.9709903
X-APPLE-STRUCTURED-LOCATION;VALUE=URI;X-ADDRESS=Titus Fit Cardiac Rehab 2003 N. Jefferson Suite 1 Mount Pleasant TX 75455 United States;X-APPLE-RADIUS=500;X-TITLE=2003 N. Jefferson\, Suite 1:geo:-94.9709903,33.1761705
END:VEVENT
END:VCALENDAR