BEGIN:VCALENDAR
VERSION:2.0
PRODID:-//Titus Regional Medical Center - ECPv6.15.16//NONSGML v1.0//EN
CALSCALE:GREGORIAN
METHOD:PUBLISH
X-ORIGINAL-URL:https://www.titusregional.com
X-WR-CALDESC:Events for Titus Regional Medical Center
REFRESH-INTERVAL;VALUE=DURATION:PT1H
X-Robots-Tag:noindex
X-PUBLISHED-TTL:PT1H
BEGIN:VTIMEZONE
TZID:America/Chicago
BEGIN:DAYLIGHT
TZOFFSETFROM:-0600
TZOFFSETTO:-0500
TZNAME:CDT
DTSTART:20230312T080000
END:DAYLIGHT
BEGIN:STANDARD
TZOFFSETFROM:-0500
TZOFFSETTO:-0600
TZNAME:CST
DTSTART:20231105T070000
END:STANDARD
BEGIN:DAYLIGHT
TZOFFSETFROM:-0600
TZOFFSETTO:-0500
TZNAME:CDT
DTSTART:20240310T080000
END:DAYLIGHT
BEGIN:STANDARD
TZOFFSETFROM:-0500
TZOFFSETTO:-0600
TZNAME:CST
DTSTART:20241103T070000
END:STANDARD
BEGIN:DAYLIGHT
TZOFFSETFROM:-0600
TZOFFSETTO:-0500
TZNAME:CDT
DTSTART:20250309T080000
END:DAYLIGHT
BEGIN:STANDARD
TZOFFSETFROM:-0500
TZOFFSETTO:-0600
TZNAME:CST
DTSTART:20251102T070000
END:STANDARD
END:VTIMEZONE
BEGIN:VEVENT
DTSTART;TZID=America/Chicago:20241012T080000
DTEND;TZID=America/Chicago:20241012T110000
DTSTAMP:20260420T211029
CREATED:20240923T163808Z
LAST-MODIFIED:20240923T163808Z
UID:10007948-1728720000-1728730800@www.titusregional.com
SUMMARY:Mt. Pleasant Community Health Fair with Tennison UMC
DESCRIPTION:Join us for our annual community health fair at the Tennison Activity Center\, located at the corner of 3rd and Church Street in Downtown Mt. Pleasant.  This year the Pediatric Clinic\, PA will also be offering Free Flu Vaccine to Children along with the flu shots being offered to adults through the Tennison Church.  Don’t miss a great day of health information\, free screenings\, and vaccines.
URL:https://www.titusregional.com/event/mt-pleasant-community-health-fair-with-tennison-umc-2/
LOCATION:TX
CATEGORIES:Community Events
ATTACH;FMTTYPE=image/jpeg:https://www.titusregional.com/wp-content/uploads/MP-HeathFair-24-1920x1080-.jpg
END:VEVENT
END:VCALENDAR