BEGIN:VCALENDAR
VERSION:2.0
PRODID:-//Titus Regional Medical Center - ECPv6.15.16//NONSGML v1.0//EN
CALSCALE:GREGORIAN
METHOD:PUBLISH
X-WR-CALNAME:Titus Regional Medical Center
X-ORIGINAL-URL:https://www.titusregional.com
X-WR-CALDESC:Events for Titus Regional Medical Center
REFRESH-INTERVAL;VALUE=DURATION:PT1H
X-Robots-Tag:noindex
X-PUBLISHED-TTL:PT1H
BEGIN:VTIMEZONE
TZID:America/Chicago
BEGIN:DAYLIGHT
TZOFFSETFROM:-0600
TZOFFSETTO:-0500
TZNAME:CDT
DTSTART:20200308T080000
END:DAYLIGHT
BEGIN:STANDARD
TZOFFSETFROM:-0500
TZOFFSETTO:-0600
TZNAME:CST
DTSTART:20201101T070000
END:STANDARD
BEGIN:DAYLIGHT
TZOFFSETFROM:-0600
TZOFFSETTO:-0500
TZNAME:CDT
DTSTART:20210314T080000
END:DAYLIGHT
BEGIN:STANDARD
TZOFFSETFROM:-0500
TZOFFSETTO:-0600
TZNAME:CST
DTSTART:20211107T070000
END:STANDARD
BEGIN:DAYLIGHT
TZOFFSETFROM:-0600
TZOFFSETTO:-0500
TZNAME:CDT
DTSTART:20220313T080000
END:DAYLIGHT
BEGIN:STANDARD
TZOFFSETFROM:-0500
TZOFFSETTO:-0600
TZNAME:CST
DTSTART:20221106T070000
END:STANDARD
END:VTIMEZONE
BEGIN:VEVENT
DTSTART;TZID=America/Chicago:20210114T173000
DTEND;TZID=America/Chicago:20210114T183000
DTSTAMP:20260420T222621
CREATED:20210114T163018Z
LAST-MODIFIED:20221011T152532Z
UID:10003573-1610645400-1610649000@www.titusregional.com
SUMMARY:TRMC COVID Vaccine Town Hall Meeting
DESCRIPTION:TRMC COVID Vaccine Town Hall Meeting \nTerry joins Dr. Craig DeLisi & Dr. Gerald Stagg to answer questions regarding the COVID-19 vaccines. \nRSVP here – https://www.facebook.com/events/394255648328444
URL:https://www.titusregional.com/event/trmc-covid-vaccine-town-hall-meeting/
LOCATION:TX
CATEGORIES:Community Events
ATTACH;FMTTYPE=image/jpeg:https://www.titusregional.com/wp-content/uploads/TitusUpdate-1-08-2021.jpg
END:VEVENT
END:VCALENDAR